BEGIN:VCALENDAR
VERSION:2.0
PRODID:-//Library Market//iCal Export//EN
BEGIN:VEVENT
SUMMARY:May Exhibit: Da Vinci Festival
UID:16527
DTSTAMP:20260420T094800Z
DTSTART:20260501T040000Z
DTEND:20260531T040000Z
LOCATION:Broome County Public Library, 185 Court Street, Binghamton, NY 13
 901, United States
ROOM: Colonnade
DESCRIPTION:
URL:https://www.thebcpl.org/event/may-exhibit-da-vinci-festival-16527
END:VEVENT
END:VCALENDAR
